BEGIN:VCALENDAR
VERSION:2.0
PRODID:-//Squarespace Inc/Squarespace 6//v6//EN
BEGIN:VEVENT
UID:5cf0d2171acff90001061048@squarespace.com
DTSTAMP:20190531T080523Z
DTSTART:20160610T073000Z
DTEND:20160611T083000Z
SUMMARY:Conference 2016
END:VEVENT
END:VCALENDAR
