BEGIN:VCALENDAR
VERSION:2.0
PRODID:-//Squarespace Inc/Squarespace 6//v6//EN
BEGIN:VEVENT
UID:5cef31c2b8ffe40001f55843@squarespace.com
DTSTAMP:20190531T070443Z
DTSTART:20170928T003000Z
DTEND:20170928T013000Z
SUMMARY:Conference 2017
END:VEVENT
END:VCALENDAR
