BEGIN:VCALENDAR
VERSION:2.0
PRODID:-//Squarespace Inc/Squarespace 6//v6//EN
BEGIN:VEVENT
UID:5cef240955d19600010402da@squarespace.com
DTSTAMP:20190530T013129Z
DTSTART:20180608T003000Z
DTEND:20180609T013000Z
SUMMARY:Conference 2018
END:VEVENT
END:VCALENDAR
