BEGIN:VCALENDAR
VERSION:2.0
PRODID:-//Squarespace Inc/Squarespace 6//v6//EN
BEGIN:VEVENT
UID:5ce4b61b588e8c00012e3eb9@squarespace.com
DTSTAMP:20190904T063932Z
DTSTART:20190822T210000Z
DTEND:20190824T003000Z
SUMMARY:Conference 2019
GEO:-37.247944;174.733991
LOCATION:St Andrews Centre\, Waiuku\, Auckland\, New Zealand
END:VEVENT
END:VCALENDAR
