BEGIN:VCALENDAR
VERSION:2.0
PRODID:-//Squarespace Inc/Squarespace 6//v6//EN
BEGIN:VEVENT
UID:5e3cd6d75749b2699ab0b464@squarespace.com
DTSTAMP:20200401T012705Z
DTSTART:20200611T220000Z
DTEND:20200613T050000Z
SUMMARY:Conference 2020
GEO:-37.005963;174.935873
LOCATION:Manurewa Assembly of God\, 174 Mill Road\, Auckland\, Auckland\, 2
 576\, New Zealand
END:VEVENT
END:VCALENDAR
